Workbook

Sheet 원가
A1: 원 가 계 산 서
A3: 공사명: | C3: 한국개발연구원 학생식당 및 주방 환경개선 공사(통신)
A4: 비 목 | C4: 구 분 | D4: 금 액 | E4: 구 성 비
B5: 재 료 비 | C5: 직 접 재 료 비
C6: 간 접 재 료 비
C7: ( 소 계 )
A8: 순 | B8: 노 무 비 | C8: 직 접 노 무 비
C9: 간 접 노 무 비 | E9: (직접 노무비) * 7.9 %
C10: ( 소 계 )
C11: 산 재 보 험 료 | E11: (노무비) * 4.05 %
C12: 고 용 보 험 료 | E12: (노무비) * 0.87 %
A13: 공 | C13: 기 타 경 비 | E13: (재료+노무) * 5.5 %
B14: 경 | C14: 건 강 보 험 료 | E14: (직접 노무비) * 3.12 %
C15: 연 금 보 험 료 | E15: (직접 노무비) * 4.5 %
C16: 노인장기요양보험 | E16: (건강 보험료) * 7.38 %
A18: 사
B22: 비
A23: 비
C26: ( 소 계 )
A27: 일 반 관 리 비 | E27: (재료+노무+경비) * 6 %
A28: 이 윤 | E28: (노무+경비+일반관리비) * 15 %
A29: ( 총 원 가 )
A30: 부 가 가 치 세
A31: [ 도 급 금 액 ]
A35: ( 총 계 )

Sheet 총괄표
B1: 55 | D1: [ 한국개발연구원 학생식당 및 주방 환경개선 공사(통신) ] | AA1: 연속견적가로형식
A2: 번호 | B2: 공종코드 | C2: … | D2: 공 종 명 | E2: 규격 | F2: 단위 | G2: 수량 | H2: 재료비 | J2: 노무비 | M2: 경비 | P2: 계 | Q2: 비고
H3: 단가 | I3: 금액 | J3: 수량 | K3: 단가 | L3: 금액 | M3: 단가 | N3: 금액 | O3: 단가
B4: 공종줄 | D4: 한국개발연구원 학생식당 및 주방 환경개선 공사(통신)
B5: 01 | D5: 1.통신공사 | F5: 식 | G5: 1
C29: Total | D29: ( 합 계 ) | I29: =TRUNC(SUM(I4:I28)) -> 0 | L29: =TRUNC(SUM(L4:L28)) -> 0 | N29: =TRUNC(SUM(N4:N28)) -> 0 | O29: =IF((H29+K29+M29)=0, "", (H29+K29+M29)) | P29: =TRUNC(SUM(P4:P28)) -> 0
B30: 공종줄 | D30: 1.통신공사
B31: 0101 | D31: 1-1.정보통신및방송설비공사 | F31: 식 | G31: 1
B55: 01 | C55: Total | D55: ( 합 계 ) | I55: =TRUNC(SUM(I30:I54)) -> 0 | L55: =TRUNC(SUM(L30:L54)) -> 0 | N55: =TRUNC(SUM(N30:N54)) -> 0 | O55: =IF((H55+K55+M55)=0, "", (H55+K55+M55)) | P55: =TRUNC(SUM(P30:P54)) -> 0

Sheet 내역서
B1: 29 | D1: [ 한국개발연구원 학생식당 및 주방 환경개선 공사(통신) ] | W1: 노임 계산 정보 | AA1: 부속재 및 손료
A2: 번호 | B2: 공종코드 | C2: 코드 | D2: 명 칭 | E2: 규 격 | F2: 단위 | G2: 수량 | H2: 재료비 | J2: 노무비 | M2: 경비 | P2: 계 | Q2: 비고 | W2: 노임계 | X2: 전체(%) | Y2: 공종별(%) | Z2: 노임 소수 | AA2: CD배관재 | AB2: 일반배관재 | AC2: 소모재 | AD2: 자재계 | AE2: 노임계
H3: 단가 | I3: 금액 | J3: 수량 | K3: 단가 | L3: 금액 | M3: 단가 | N3: 금액 | O3: 단가 | AD3: =IF(#REF! =0, "1",#REF!) -> #REF! | AE3: =IF(#REF! =0, "1",#REF!) -> #REF!
B4: 공종줄 | D4: 1.통신공사::1-1.정보통신및방송설비공사
A5: 59751467023 | B5: 0101 | C5: 3913170620034966 | D5: 경질비닐전선관(노출) | E5: HI 22 mm | F5: M | G5: 27 | AB5: =I5 -> 0 | AC5: =G5*H5 -> 0
A6: A0500000000 | B6: 0101 | C6: RENT000000000002 | D6: [ 배관 부속재 ] | E6: 전선관의 15 % | F6: 식 | G6: 1 | AB6: =TRUNC(SUM(AB4:AB5), 1) -> 0
A7: 59753777102 | B7: 0101 | C7: 3912130610035778 | D7: 스위치박스 | E7: 1 개용 54 mm | F7: 개 | G7: 2
A8: 61452167502 | B8: 0101 | C8: 2612160921650753 | D8: UTP 케이블 | E8: Cat.6 0.5mm 4P | F8: M | G8: 837 | AC8: =G8*H8 -> 0
A9: 58051750205 | B9: 0101 | C9: 3912140620937660 | D9: 모듈라짹 | E9: 매입용, Cat.6 5구 | F9: 개 | G9: 2
A10: MM300040719 | B10: 0101 | C10: 5216151220173737 | D10: 스 피 커 | E10: 천정형(3W) 원형 | F10: 개 | G10: 2
A11: A0100000000 | B11: 0101 | C11: RENT000000000003 | D11: [ 소모 잡자재 ] | E11: 전선, 전선관의 2 % | F11: 식 | G11: 1 | AC11: =TRUNC(TRUNC(SUM(AC4:AC10))*#REF!/100) -> #REF! | AD11: =TRUNC(SUM(I4:I10))+TRUNC(SUM(N4:N10)) -> 0
A12: 56900017113 | B12: 0101 | C12: L001010101000086 | D12: 노 무 비 | E12: 통신내선공 | F12: 인 | G12: 2 | AE12: =L12 -> 0
A13: 56900017116 | B13: 0101 | C13: L001010101000089 | D13: 노 무 비 | E13: 통신케이블공 | F13: 인 | G13: 12 | AE13: =L13 -> 0
A14: 56900017114 | B14: 0101 | C14: L001010101000087 | D14: 노 무 비 | E14: 통신설비공 | F14: 인 | G14: 1 | AE14: =L14 -> 0
A15: A0300000000 | B15: 0101 | C15: RENT000000000006 | D15: [ 공 구 손 료 ] | E15: 노무비의 3 % | F15: 식 | G15: 1
AC16: =TRUNC(AE16*#REF!/100) -> #REF! | AD16: =TRUNC(SUM(L4:L14)) -> 0 | AE16: =TRUNC(SUM(AE4:AE15)) -> 0
B29: 합계줄 | D29: ( 합 계 )

Sheet 겉표지
A1: =표지!A1 -> 見 積 書 | Z1: 견적가로형식-1
C18: 件 名: | D18: =표지!C13 -> 13
C20: 提 出 處: | D20: =표지!C4 -> 貴下
C22: 提 出 日: | D22: =표지!C6 -> 2018년 11월 12일
D36: =표지!I3 -> 이지테크
D37: =표지!I4
D38: =표지!I5 -> ㅇ ㅇ 시 ㅇ ㅇ 구 ㅇ ㅇ 동
D39: =표지!I6
D40: =표지!I7 -> 대표이사 홍 길 동
D41: =표지!I8
D42: =표지!I9 -> 대표전화 (02) 0 0 0 - 0 0 0 0
D43: =표지!I10
D44: =표지!I11 -> 팩 스 (02) 0 0 0 - 0 0 0 0
D45: =표지!I12
D46: =표지!I13

Sheet 표지
A1: 見 積 書
I3: 이지테크
B4: 제 출 처: | C4: 貴下
I5: ㅇ ㅇ 시 ㅇ ㅇ 구 ㅇ ㅇ 동
B6: 제 출 일: | C6: 2018년 11월 12일
I7: 대표이사 홍 길 동
B8: 아래와 같이 見積書를 제출합니다.
I9: 대표전화 (02) 0 0 0 - 0 0 0 0
I11: 팩 스 (02) 0 0 0 - 0 0 0 0
B13: 공 사 명: | C13: 13
B15: 공사금액: | C15: ="一金"&NUMBERSTRING(F40,2)&"원整("&DOLLAR(F40,0)&")" -> 一金零원整(₩0)
B17: 내 용 | D17: 단위 | E17: 수량 | F17: 금 액 | H17: 비 고 | M17: 요율 | N17: 금액 | O17: 이윤 | P17: 끝자리맞추기
N18: =E18*F18 -> 0
N19: =E19*F19 -> 0
N20: =E20*F20 -> 0
N21: =E21*F21 -> 0
N22: =E22*F22 -> 0
N23: =E23*F23 -> 0
N24: =E24*F24 -> 0
N25: =E25*F25 -> 0
N26: =E26*F26 -> 0
N27: =E27*F27 -> 0
N28: =E28*F28 -> 0
N29: =E29*F29 -> 0
... N39: =E39*F39 -> 0
F40: =N40 -> 0 | N40: =SUM(N18:N39) -> 0
B41: 1. 부가가치세 별도
B42: 2. 한전불입금 별도

Sheet 합산자재
B1: 29 | C1: [ KDI대학원기숙사및식당환경개선공사 ] - 합산자재목록
A2: 번호 | B2: … | C2: 코드 | D2: 명 칭 | E2: 규 격 | F2: 단위 | G2: 수량 | H2: 재료비 | I2: 노무비 | J2: 경비 | K2: 지급비 | L2: 계 | M2: 비고
B4: 59751467023 | C4: 3913170620034966 | D4: 경질비닐전선관(노출) | E4: HI 22 mm | F4: M | G4: 27 | H4: =ROUNDDOWN(#REF!*#REF!, 0) -> #REF! | L4: =SUM(H4,I4,J4) -> #REF!
B5: 59753777102 | C5: 3912130610035778 | D5: 스위치박스 | E5: 1 개용 54 mm | F5: 개 | G5: 2 | H5: =ROUNDDOWN(#REF!*#REF!, 0) -> #REF! | L5: =SUM(H5,I5,J5) -> #REF!
B6: 61452167502 | C6: 2612160921650753 | D6: UTP 케이블 | E6: Cat.6 0.5mm 4P | F6: M | G6: 837 | H6: =ROUNDDOWN(#REF!*#REF!, 0) -> #REF! | L6: =SUM(H6,I6,J6) -> #REF!
B7: 58051750205 | C7: 3912140620937660 | D7: 모듈라짹 | E7: 매입용, Cat.6 5구 | F7: 개 | G7: 2 | H7: =ROUNDDOWN(#REF!*#REF!, 0) -> #REF! | L7: =SUM(H7,I7,J7) -> #REF!
B8: MM300040719 | C8: 5216151220173737 | D8: 스 피 커 | E8: 천정형(3W) 원형 | F8: 개 | G8: 2 | H8: =ROUNDDOWN(#REF!*#REF!, 0) -> #REF! | L8: =SUM(H8,I8,J8) -> #REF!
B9: 56900017113 | C9: L001010101000086 | D9: 노 무 비 | E9: 통신내선공 | F9: 인 | G9: 2 | I9: =ROUNDDOWN(#REF!, 0) -> #REF! | L9: =SUM(H9,I9,J9) -> #REF!
B10: 56900017116 | C10: L001010101000089 | D10: 노 무 비 | E10: 통신케이블공 | F10: 인 | G10: 12 | I10: =ROUNDDOWN(#REF!, 0) -> #REF! | L10: =SUM(H10,I10,J10) -> #REF!
B11: 56900017114 | C11: L001010101000087 | D11: 노 무 비 | E11: 통신설비공 | F11: 인 | G11: 1 | I11: =ROUNDDOWN(#REF!, 0) -> #REF! | L11: =SUM(H11,I11,J11) -> #REF!
B12: 56900017016 | C12: L001010101000075 | D12: 노 무 비 | E12: 내선전공 | F12: 인 | G12: 1 | I12: =ROUNDDOWN(#REF!, 0) -> #REF! | L12: =SUM(H12,I12,J12) -> #REF!

Sheet 사용설명
B1: ** 반드시 다음 사항을 숙지하신 다음 수정 작업을 하십시오 **
A2: 1. | B2: 속성이 숫자인 셀을 삭제할 때는 반드시 'Delete' 키를 사용하십시오.
B3: **주의:'Space Bar' 로 지웠을 때는 '#Value' Error가 발생됩니다.
A4: 2. | B4: 일위대가(을지)는 소수점 처리 때문에 셀 속성을 '일반'으로 하였습니다.(소수점 능동 처리)
B5: **참고: (수량*단가)의 결과는 소수 한자리, 금액을 취합한 소계는 1원 이하 절사입니다.
A6: 3. | B6: 내역서에서는 수량에만 셀 속성을 '일반'으로 하였습니다.(소수점 능동 처리)
A7: 4. | B7: 단가수정은 '단가조사서'시트 에서 하십시오.
B8: a)표지와 원가 -> 총괄표 -> 내역서 ->일위대가와 합산자재 ->단가조사서 를 참조하고
B9: 있으므로 단가조사서의 결정단가를 수정하면 전체 금액이 갱신됩니다.
B10: **주의: 금액란은 공식이 걸려있으므로 조심하여 수정하십시오.
B11: b)전체 자재를 일정 요율(%)로 변경할 때는 옵션시트의 자재 적용율을 조정하면 됩니다.
A12: 5. | B12: 노임 단가는 '단가조사서'시트에서 품셈은 '노임근거'시트에서 수정하십시오.
B13: a)전체 노임을 일정 요율(%)로 변경할 때는 '옵션시트'의 전체노임 적용율을 조정하면 됩니다.
B14: b)공종별로 노임을 수정하려면 '옵션시트'의 공종별 노임 적용율을 조정하면 됩니다.
B15: c)케이블 및 전선 자재 단가를 추가로 조정하려면 그룹별 자재 적용율을 조정하면 됩니다.
B16: 그룹은 견적 프로그램에서 엑셀파일이 만들어질때 지정됩니다.
A17: 6. | B17: 겉표지의 모든 정보는 표지를 참조하였습니다.(정보 수정은 표지에서만 하시면 됩니다.)
A18: 7. | B18: 필수 :본 프로그램의 총 금액을 확인한 후 사용하십시오.
A19: 8. | B19: 본 파일의 내용을 인쇄할 경우, 미리보기를 통하여 페이지 절선을 확인 후 인쇄하십시오.
A20: 9. | B20: 관급자재 Sheet가 해당이 없을 경우엔 삭제하십시오.
A21: 10. | B21: 페이지 절선이 맞지 않으면 다음을 참고하십시오.
B33: a. 해당시트의 셀 전체를 선택합니다.
B34: b. 행높이를 적절히 가감하면 페이지 절선을 맞출 수 있습니다.
