Workbook

Sheet 원가
A1: 원 가 계 산 서
A3: 공사명: | C3: 한국개발연구원 학생식당 및 주방 환경개선 공사(전기)
A4: 비 목 | C4: 구 분 | D4: 금 액 | E4: 구 성 비
B5: 재 료 비 | C5: 직 접 재 료 비
C6: 간 접 재 료 비
C7: ( 소 계 )
A8: 순 | B8: 노 무 비 | C8: 직 접 노 무 비
C9: 간 접 노 무 비 | E9: (직접 노무비) * 7.9 %
C10: ( 소 계 )
C11: 산 재 보 험 료 | E11: (노무비) * 4.05 %
C12: 고 용 보 험 료 | E12: (노무비) * 0.87 %
A13: 공 | C13: 산업안전보건관리비 | E13: (재료+직노) * 1.85 %
B14: 경 | C14: 기 타 경 비 | E14: (재료+노무) * 5.5 %
C15: 건 강 보 험 료 | E15: (직접 노무비) * 3.12 %
C16: 연 금 보 험 료 | E16: (직접 노무비) * 4.5 %
C17: 노인장기요양보험 | E17: (건강 보험료) * 7.38 %
A18: 사
B22: 비
A23: 비
C26: ( 소 계 )
A27: 일 반 관 리 비 | E27: (재료+노무+경비) * 6 %
A28: 이 윤 | E28: (노무+경비+일반관리비) * 15 %
A29: ( 총 원 가 )
A30: 부 가 가 치 세
A31: [ 도 급 금 액 ]
A35: ( 총 계 )

Sheet 총괄표
B1: 55 | D1: [ 한국개발연구원 학생식당 및 주방 환경개선 공사(전기) ] | AA1: 연속견적가로형식
A2: 번호 | B2: 공종코드 | C2: … | D2: 공 종 명 | E2: 규격 | F2: 단위 | G2: 수량 | H2: 재료비 | J2: 노무비 | M2: 경비 | P2: 계 | Q2: 비고
H3: 단가 | I3: 금액 | J3: 수량 | K3: 단가 | L3: 금액 | M3: 단가 | N3: 금액 | O3: 단가
B4: 공종줄 | D4: KDI대학원기숙사및식당환경개선공사
B5: 01 | D5: 1.전기공사 | F5: 식 | G5: 1
C29: Total | D29: ( 합 계 ) | I29: =TRUNC(SUM(I4:I28)) -> 0 | L29: =TRUNC(SUM(L4:L28)) -> 0 | N29: =TRUNC(SUM(N4:N28)) -> 0 | O29: =IF((H29+K29+M29)=0, "", (H29+K29+M29)) | P29: =TRUNC(SUM(P4:P28)) -> 0
B30: 공종줄 | D30: 1.전기공사
B31: 0101 | D31: 1-1.동력설비공사 | F31: 식 | G31: 1
B32: 0102 | D32: 1-2.전등설비공사 | F32: 식 | G32: 1
B33: 0103 | D33: 1-3.전열설비공사 | F33: 식 | G33: 1
B34: 0104 | D34: 1-4.전력간선설비공사 | F34: 식 | G34: 1
B35: 0105 | D35: 1-5.전기철거설비공사 | F35: 식 | G35: 1
B55: 01 | C55: Total | D55: ( 합 계 ) | I55: =TRUNC(SUM(I30:I54)) -> 0 | L55: =TRUNC(SUM(L30:L54)) -> 0 | N55: =TRUNC(SUM(N30:N54)) -> 0 | O55: =IF((H55+K55+M55)=0, "", (H55+K55+M55)) | P55: =TRUNC(SUM(P30:P54)) -> 0

Sheet 내역서
B1: 159 | D1: [ 한국개발연구원 학생식당 및 주방 환경개선 공사(전기) ] | W1: 노임 계산 정보 | AA1: 부속재 및 손료
A2: 번호 | B2: 공종코드 | C2: 코드 | D2: 명 칭 | E2: 규 격 | F2: 단위 | G2: 수량 | H2: 재료비 | J2: 노무비 | M2: 경비 | P2: 계 | Q2: 비고 | W2: 노임계 | X2: 전체(%) | Y2: 공종별(%) | Z2: 노임 소수 | AA2: CD배관재 | AB2: 일반배관재 | AC2: 소모재 | AD2: 자재계 | AE2: 노임계
H3: 단가 | I3: 금액 | J3: 수량 | K3: 단가 | L3: 금액 | M3: 단가 | N3: 금액 | O3: 단가 | AD3: =IF(#REF! =0, "1",#REF!) -> #REF! | AE3: =IF(#REF! =0, "1",#REF!) -> #REF!
B4: 공종줄 | D4: 1.전기공사::1-1.동력설비공사
A5: 59751467014 | B5: 0101 | C5: 3913170610034967 | D5: 경질비닐전선관 | E5: HI 28 mm | F5: M | G5: 19 | AB5: =J5*H5 -> 0 | AC5: =J5*H5 -> 0
A6: 59751467015 | B6: 0101 | C6: 3913170610034968 | D6: 경질비닐전선관 | E6: HI 36 mm | F6: M | G6: 40 | AB6: =J6*H6 -> 0 | AC6: =J6*H6 -> 0
A7: 59751467016 | B7: 0101 | C7: 3913170610034969 | D7: 경질비닐전선관 | E7: HI 42 mm | F7: M | G7: 76 | AB7: =J7*H7 -> 0 | AC7: =J7*H7 -> 0
A8: 59753097002 | B8: 0101 | C8: 3913170610035664 | D8: 합성수지제 가요전선관(노출) | E8: CD-난연성 16㎜ | F8: M | G8: 273 | AA8: =J8*H8 -> 0 | AC8: =J8*H8 -> 0
A9: 59753017026 | B9: 0101 | C9: 3913170620174425 | D9: 1종금속제가요전선관 | E9: 36 mm 일반-방수 | F9: M | G9: 1 | AB9: =J9*H9 -> 0 | AC9: =J9*H9 -> 0
A10: 59753017027 | B10: 0101 | C10: 3913170620174426 | D10: 1종금속제가요전선관 | E10: 42 mm 일반-방수 | F10: M | G10: 1 | AB10: =J10*H10 -> 0 | AC10: =J10*H10 -> 0
A11: A0600000000 | B11: 0101 | C11: RENT000000000001 | D11: [ 배관 부속재 ] | E11: CD 전선관의 40 % | F11: 식 | G11: 1 | AA11: =TRUNC(SUM(AA4:AA10), 1) -> 0
A12: A0500000000 | B12: 0101 | C12: RENT000000000002 | D12: [ 배관 부속재 ] | E12: 전선관의 15 % | F12: 식 | G12: 1 | AB12: =TRUNC(SUM(AB4:AB11), 1) -> 0
A13: 59753017066 | B13: 0101 | C13: 3913170620174449 | D13: 1종금속제가요전선관 | E13: 커넥터, 36 mm 일반-방수 | F13: 개 | G13: 2
A14: 59753017067 | B14: 0101 | C14: 3913170620174450 | D14: 1종금속제가요전선관 | E14: 커넥터, 42 mm 일반-방수 | F14: 개 | G14: 2
A15: 59759027001 | B15: 0101 | C15: 3913170820935617 | D15: 경질비닐전선관용 부품 | E15: 노말밴드, 28 mm | F15: 개 | G15: 1
A16: 59759027002 | B16: 0101 | C16: 3913170820935618 | D16: 경질비닐전선관용 부품 | E16: 노말밴드, 36 mm | F16: 개 | G16: 1
A17: 59759027003 | B17: 0101 | C17: 3913170820935619 | D17: 경질비닐전선관용 부품 | E17: 노말밴드, 42 mm | F17: 개 | G17: 7
A18: 59753767011 | B18: 0101 | C18: 3912130810035750 | D18: 아우트렛박스 | E18: 8각 54㎜ | F18: 개 | G18: 12
A19: 59753777102 | B19: 0101 | C19: 3912130610035778 | D19: 스위치박스 | E19: 1 개용 54 mm | F19: 개 | G19: 22
A20: 59753767201 | B20: 0101 | C20: 3912130820174710 | D20: 아우트렛박스 커버 | E20: 커버, 8각, 평형 | F20: 개 | G20: 12
A21: 59753857021 | B21: 0101 | C21: 3912130310035796 | D21: 풀박스 | E21: 100×100×100 | F21: 개 | G21: 1
A22: 59753857031 | B22: 0101 | C22: 3912130310035797 | D22: 풀박스 | E22: 150×150×100 | F22: 개 | G22: 3
A23: 59753857061 | B23: 0101 | C23: 3912130310035799 | D23: 풀박스 | E23: 200×200×100 | F23: 개 | G23: 3
A24: E1450927201 | B24: 0101 | C24: 2612152420683695 | D24: 접지용비닐절연전선(F-GV) | E24: 2.5㎟ | F24: M | G24: 296 | AC24: =J24*H24 -> 0
A25: E1450927203 | B25: 0101 | C25: 2612152420683697 | D25: 접지용비닐절연전선(F-GV) | E25: 6㎟ | F25: M | G25: 42 | AC25: =J25*H25 -> 0
A26: E1450927205 | B26: 0101 | C26: 2612152420683699 | D26: 접지용비닐절연전선(F-GV) | E26: 16㎟ | F26: M | G26: 82 | AC26: =J26*H26 -> 0
A27: E1450287522 | B27: 0101 | C27: 2612162920683903 | D27: 폴리에틸렌 난연케이블 | E27: 0.6/1kv F-CV 2C×4㎟ | F27: M | G27: 283 | AC27: =J27*H27 -> 0
A28: E1450287540 | B28: 0101 | C28: 2612162920683923 | D28: 폴리에틸렌 난연케이블 | E28: 0.6/1kv F-CV 3C×6㎟ | F28: M | G28: 40 | AC28: =J28*H28 -> 0
A29: E1450287565 | B29: 0101 | C29: 2612162920683947 | D29: 폴리에틸렌 난연케이블 | E29: 0.6/1kv F-CV 4C×16㎟ | F29: M | G29: 78 | AC29: =J29*H29 -> 0
A30: E1451017202 | B30: 0101 | C30: 2612164020684089 | D30: 소방용내열전선(F-FR-3) | E30: 코어형, 5C×1.78mm | F30: M | G30: 61 | AC30: =J30*H30 -> 0
A31: 59350317208 | B31: 0101 | C31: 3912140621030228 | D31: 방우콘센트 | E31: 매입-접지형, 250V 2구 | F31: 개 | G31: 22
A32: E9400267006 | B32: 0101 | C32: 3912143221650911 | D32: 압착단자 | E32: R형동선 나압착 16 ㎟ | F32: 개 | G32: 30
A33: 56950120028 | B33: 0101 | C33: EAA110130000 | D33: 파이프행가 | E33: 28 C | F33: 식 | G33: 10 | AE33: =L33 -> 0
A34: 56950120036 | B34: 0101 | C34: EAA110140000 | D34: 파이프행가 | E34: 36 C | F34: 식 | G34: 15 | AE34: =L34 -> 0
A35: 56950120042 | B35: 0101 | C35: EAA110150000 | D35: 파이프행가 | E35: 42 C | F35: 식 | G35: 31 | AE35: =L35 -> 0
A36: A0100000000 | B36: 0101 | C36: RENT000000000003 | D36: [ 소모 잡자재 ] | E36: 전선, 전선관의 2 % | F36: 식 | G36: 1 | AC36: =TRUNC(TRUNC(SUM(AC4:AC35))*#REF!/100) -> #REF! | AD36: =TRUNC(SUM(I4:I35))+TRUNC(SUM(N4:N35)) -> 0
A37: 56900017016 | B37: 0101 | C37: L001010101000075 | D37: 노 무 비 | E37: 내선전공 | F37: 인 | G37: 41 | AE37: =L37 -> 0
A38: 56900017076 | B38: 0101 | C38: L001010101000078 | D38: 노 무 비 | E38: 저압케이블전공 | F38: 인 | G38: 15 | AE38: =L38 -> 0
A39: A0300000000 | B39: 0101 | C39: RENT000000000006 | D39: [ 공 구 손 료 ] | E39: 노무비의 3 % | F39: 식 | G39: 1
AC40: =TRUNC(AE40*#REF!/100) -> #REF! | AD40: =TRUNC(SUM(L4:L38)) -> 0 | AE40: =TRUNC(SUM(AE4:AE39)) -> 0
B55: 합계줄 | D55: ( 합 계 )
B56: 공종줄 | D56: 1.전기공사::1-2.전등설비공사
A57: 59751467022 | B57: 0102 | C57: 3913170620034965 | D57: 경질비닐전선관(노출) | E57: HI 16 mm | F57: M | G57: 117 | AB57: =J57*H57 -> 0 | AC57: =J57*H57 -> 0
A58: 59751467023 | B58: 0102 | C58: 3913170620034966 | D58: 경질비닐전선관(노출) | E58: HI 22 mm | F58: M | G58: 5 | AB58: =J58*H58 -> 0 | AC58: =J58*H58 -> 0
A59: 59753017043 | B59: 0102 | C59: 3913170620174434 | D59: 1종금속제가요전선관 | E59: 커넥터, 16 mm 일반-비방수 | F59: 개 | G59: 76
A60: MM496797011 | B60: 0102 | C60: 3913170620174478 | D60: 1종금속제가요전선관 | E60: 16 mm 고장력-비방수 | F60: M | G60: 62 | AB60: =J60*H60 -> 0 | AC60: =J60*H60 -> 0
A61: A0500000000 | B61: 0102 | C61: RENT000000000002 | D61: [ 배관 부속재 ] | E61: 전선관의 15 % | F61: 식 | G61: 1 | AB61: =TRUNC(SUM(AB56:AB60), 1) -> 0
A62: 59753767011 | B62: 0102 | C62: 3912130810035750 | D62: 아우트렛박스 | E62: 8각 54㎜ | F62: 개 | G62: 37
A63: 59753767041 | B63: 0102 | C63: 3912130810035753 | D63: 아우트렛박스 | E63: 중형4각 54㎜ | F63: 개 | G63: 1
A64: 59753777102 | B64: 0102 | C64: 3912130610035778 | D64: 스위치박스 | E64: 1 개용 54 mm | F64: 개 | G64: 2
A65: 59753777111 | B65: 0102 | C65: 3912130610035781 | D65: 스위치박스 | E65: 2 개용 54 mm | F65: 개 | G65: 1
A66: 59753767201 | B66: 0102 | C66: 3912130820174710 | D66: 아우트렛박스 커버 | E66: 커버, 8각, 평형 | F66: 개 | G66: 37
A67: 59753767231 | B67: 0102 | C67: 3912130820174713 | D67: 아우트렛박스 커버 | E67: 커버, 4각, 평형 | F67: 개 | G67: 1
A68: MM481669624 | B68: 0102 | C68: 2612162922076727 | D68: 450/750V 내열비닐절연전선 | E68: HFIX 1.78mm(2.5㎟) | F68: M | G68: 732 | AC68: =J68*H68 -> 0
A69: 59301517001 | B69: 0102 | C69: 3912998720170517 | D69: 매입스위치 | E69: 250V 1로1구 | F69: 개 | G69: 1
A70: 59301517002 | B70: 0102 | C70: 3912998720170518 | D70: 매입스위치 | E70: 250V 1로2구 | F70: 개 | G70: 1
A71: 59301517004 | B71: 0102 | C71: 3912998720170520 | D71: 매입스위치 | E71: 250V 1로4구 | F71: 개 | G71: 1
A72: 62100008002 | B72: 0102 | C72: 391115ZZ901Z1002 | D72: 조명기구 | E72: TYPE A | F72: 개 | G72: 10
A73: 62100008003 | B73: 0102 | C73: 391115ZZ901Z1003 | D73: 조명기구 | E73: TYPE B | F73: 개 | G73: 28
A74: 62100008004 | B74: 0102 | C74: 391115ZZ901Z1004 | D74: 조명기구 | E74: TYPE C | F74: 개 | G74: 12
A75: A0100000000 | B75: 0102 | C75: RENT000000000003 | D75: [ 소모 잡자재 ] | E75: 전선, 전선관의 2 % | F75: 식 | G75: 1 | AC75: =TRUNC(TRUNC(SUM(AC56:AC74))*#REF!/100) -> #REF! | AD75: =TRUNC(SUM(I56:I74))+TRUNC(SUM(N56:N74)) -> 0
A76: 56900017016 | B76: 0102 | C76: L001010101000075 | D76: 노 무 비 | E76: 내선전공 | F76: 인 | G76: 32 | AE76: =L76 -> 0
A77: A0300000000 | B77: 0102 | C77: RENT000000000006 | D77: [ 공 구 손 료 ] | E77: 노무비의 3 % | F77: 식 | G77: 1
AC78: =TRUNC(AE78*#REF!/100) -> #REF! | AD78: =TRUNC(SUM(L56:L76)) -> 0 | AE78: =TRUNC(SUM(AE56:AE77)) -> 0
B81: 합계줄 | D81: ( 합 계 )
B82: 공종줄 | D82: 1.전기공사::1-3.전열설비공사
A83: 59751467022 | B83: 0103 | C83: 3913170620034965 | D83: 경질비닐전선관(노출) | E83: HI 16 mm | F83: M | G83: 39 | AB83: =J83*H83 -> 0 | AC83: =J83*H83 -> 0
A84: A0500000000 | B84: 0103 | C84: RENT000000000002 | D84: [ 배관 부속재 ] | E84: 전선관의 15 % | F84: 식 | G84: 1 | AB84: =TRUNC(SUM(AB82:AB83), 1) -> 0
A85: 59753777102 | B85: 0103 | C85: 3912130610035778 | D85: 스위치박스 | E85: 1 개용 54 mm | F85: 개 | G85: 2
A86: E1450667003 | B86: 0103 | C86: 2612162922076728 | D86: 450/750V 내열비닐절연전선 | E86: HFIX 2.25mm(4㎟) | F86: M | G86: 124 | AC86: =J86*H86 -> 0
A87: 59350317206 | B87: 0103 | C87: 3912140620170850 | D87: 콘센트 | E87: 매입-접지형, 250V 2구 | F87: 개 | G87: 1
A88: A0100000000 | B88: 0103 | C88: RENT000000000003 | D88: [ 소모 잡자재 ] | E88: 전선, 전선관의 2 % | F88: 식 | G88: 1 | AC88: =TRUNC(TRUNC(SUM(AC82:AC87))*#REF!/100) -> #REF! | AD88: =TRUNC(SUM(I82:I87))+TRUNC(SUM(N82:N87)) -> 0
A89: 56900017016 | B89: 0103 | C89: L001010101000075 | D89: 노 무 비 | E89: 내선전공 | F89: 인 | G89: 4 | AE89: =L89 -> 0
A90: A0300000000 | B90: 0103 | C90: RENT000000000006 | D90: [ 공 구 손 료 ] | E90: 노무비의 3 % | F90: 식 | G90: 1
AC91: =TRUNC(AE91*#REF!/100) -> #REF! | AD91: =TRUNC(SUM(L82:L89)) -> 0 | AE91: =TRUNC(SUM(AE82:AE90)) -> 0
B107: 합계줄 | D107: ( 합 계 )
B108: 공종줄 | D108: 1.전기공사::1-4.전력간선설비공사
A109: 59751467018 | B109: 0104 | C109: 3913170610034971 | D109: 경질비닐전선관 | E109: HI 70 mm | F109: M | G109: 6 | AB109: =J109*H109 -> 0 | AC109: =J109*H109 -> 0
A110: A0500000000 | B110: 0104 | C110: RENT000000000002 | D110: [ 배관 부속재 ] | E110: 전선관의 15 % | F110: 식 | G110: 1 | AB110: =TRUNC(SUM(AB108:AB109), 1) -> 0
A111: 59759027005 | B111: 0104 | C111: 3913170820935621 | D111: 경질비닐전선관용 부품 | E111: 노말밴드, 70 mm | F111: 개 | G111: 1
A112: 59753857201 | B112: 0104 | C112: 3912130320174774 | D112: 풀박스 | E112: 500×500×300 | F112: 개 | G112: 1
A113: E1450927209 | B113: 0104 | C113: 2612152420683702 | D113: 접지용비닐절연전선(F-GV) | E113: 50㎟ | F113: M | G113: 12 | AC113: =J113*H113 -> 0
A114: E1450287512 | B114: 0104 | C114: 2612162920683891 | D114: 폴리에틸렌 난연케이블 | E114: 0.6/1kv F-CV 1C×95㎟ | F114: M | G114: 298 | AC114: =J114*H114 -> 0
A115: MM300015804 | B115: 0104 | C115: 3912161620167062 | D115: 배선용차단기 | E115: 4P 225AF 200AT | F115: 개 | G115: 1
A116: E9400177005 | B116: 0104 | C116: 3912143210033790 | D116: 러그단자 | E116: 동관단자 1 HOLE 50 ㎟ | F116: 개 | G116: 2
A117: E9400177007 | B117: 0104 | C117: 3912143210033792 | D117: 러그단자 | E117: 동관단자 1 HOLE 95 ㎟ | F117: 개 | G117: 8
A118: 56950120070 | B118: 0104 | C118: EAA110170000 | D118: 파이프행가 | E118: 70 C | F118: 식 | G118: 2 | AE118: =L118 -> 0
A119: 61100148025 | B119: 0104 | C119: 391211ZZ901Z1025 | D119: 분전반 | E119: P-PK3 | F119: 면 | G119: 1
A120: A0100000000 | B120: 0104 | C120: RENT000000000003 | D120: [ 소모 잡자재 ] | E120: 전선, 전선관의 2 % | F120: 식 | G120: 1 | AC120: =TRUNC(TRUNC(SUM(AC108:AC119))*#REF!/100) -> #REF! | AD120: =TRUNC(SUM(I108:I119))+TRUNC(SUM(N108:N119)) -> 0
A121: 56900017016 | B121: 0104 | C121: L001010101000075 | D121: 노 무 비 | E121: 내선전공 | F121: 인 | G121: 5 | AE121: =L121 -> 0
A122: 56900017076 | B122: 0104 | C122: L001010101000078 | D122: 노 무 비 | E122: 저압케이블전공 | F122: 인 | G122: 22 | AE122: =L122 -> 0
A123: A0300000000 | B123: 0104 | C123: RENT000000000006 | D123: [ 공 구 손 료 ] | E123: 노무비의 3 % | F123: 식 | G123: 1
AC124: =TRUNC(AE124*#REF!/100) -> #REF! | AD124: =TRUNC(SUM(L108:L122)) -> 0 | AE124: =TRUNC(SUM(AE108:AE123)) -> 0
B133: 합계줄 | D133: ( 합 계 )
B134: 공종줄 | D134: 1.전기공사::1-5.전기철거설비공사
A135: 59751467016 | B135: 0105 | C135: 3913170610034969 | D135: 경질비닐전선관 | E135: HI 42 mm | F135: M | G135: 7.3 | AB135: =합산자재!H6 -> #REF! | AC135: =J135*H135 -> 0
A136: 59751467017 | B136: 0105 | C136: 3913170610034970 | D136: 경질비닐전선관 | E136: HI 54 mm | F136: M | G136: 5.3 | AB136: =합산자재!H7 -> #REF! | AC136: =J136*H136 -> 0
A137: 59751467022 | B137: 0105 | C137: 3913170620034965 | D137: 경질비닐전선관(노출) | E137: HI 16 mm | F137: M | G137: 95.1 | AB137: =합산자재!H9 -> #REF! | AC137: =J137*H137 -> 0
A138: E1450927201 | B138: 0105 | C138: 2612152420683695 | D138: 접지용비닐절연전선(F-GV) | E138: 2.5㎟ | F138: M | G138: 106.7 | AC138: =J138*H138 -> 0
A139: E1450927205 | B139: 0105 | C139: 2612152420683699 | D139: 접지용비닐절연전선(F-GV) | E139: 16㎟ | F139: M | G139: 15.6 | AC139: =J139*H139 -> 0
...

Sheet 겉표지
A1: =표지!A1 -> 見 積 書 | Z1: 견적가로형식-1
C18: 件 名: | D18: =표지!C13 -> 13
C20: 提 出 處: | D20: =표지!C4 -> 貴下
C22: 提 出 日: | D22: =표지!C6 -> 2018년 11월 26일
D36: =표지!I3 -> 이지테크
D37: =표지!I4
D38: =표지!I5 -> ㅇ ㅇ 시 ㅇ ㅇ 구 ㅇ ㅇ 동
D39: =표지!I6
D40: =표지!I7 -> 대표이사 홍 길 동
D41: =표지!I8
D42: =표지!I9 -> 대표전화 (02) 0 0 0 - 0 0 0 0
D43: =표지!I10
D44: =표지!I11 -> 팩 스 (02) 0 0 0 - 0 0 0 0
D45: =표지!I12
D46: =표지!I13

Sheet 표지
A1: 見 積 書
I3: 이지테크
B4: 제 출 처: | C4: 貴下
I5: ㅇ ㅇ 시 ㅇ ㅇ 구 ㅇ ㅇ 동
B6: 제 출 일: | C6: 2018년 11월 26일
I7: 대표이사 홍 길 동
B8: 아래와 같이 見積書를 제출합니다.
I9: 대표전화 (02) 0 0 0 - 0 0 0 0
I11: 팩 스 (02) 0 0 0 - 0 0 0 0
B13: 공 사 명: | C13: 13
B15: 공사금액: | C15: ="一金"&NUMBERSTRING(F40,2)&"원整("&DOLLAR(F40,0)&")" -> 一金零원整(₩0)
B17: 내 용 | D17: 단위 | E17: 수량 | F17: 금 액 | H17: 비 고 | M17: 요율 | N17: 금액 | O17: 이윤 | P17: 끝자리맞추기
N18: =E18*F18 -> 0
N19: =E19*F19 -> 0
N20: =E20*F20 -> 0
N21: =E21*F21 -> 0
N22: =E22*F22 -> 0
N23: =E23*F23 -> 0
N24: =E24*F24 -> 0
N25: =E25*F25 -> 0
N26: =E26*F26 -> 0
N27: =E27*F27 -> 0
N28: =E28*F28 -> 0
N29: =E29*F29 -> 0
... N39: =E39*F39 -> 0
F40: =N40 -> 0 | N40: =SUM(N18:N39) -> 0
B41: 1. 부가가치세 별도
B42: 2. 한전불입금 별도

Sheet 합산자재
B1: 81 | C1: [ KDI대학원기숙사및식당환경개선공사 ] - 합산자재목록
A2: 번호 | B2: … | C2: 코드 | D2: 명 칭 | E2: 규 격 | F2: 단위 | G2: 수량 | H2: 재료비 | I2: 노무비 | J2: 경비 | K2: 지급비 | L2: 계 | M2: 비고
B4: 59751467014 | C4: 3913170610034967 | D4: 경질비닐전선관 | E4: HI 28 mm | F4: M | G4: 19 | H4: =ROUNDDOWN(#REF!*#REF!, 0) -> #REF! | L4: =SUM(H4,I4,J4) -> #REF!
B5: 59751467015 | C5: 3913170610034968 | D5: 경질비닐전선관 | E5: HI 36 mm | F5: M | G5: 40 | H5: =ROUNDDOWN(#REF!*#REF!, 0) -> #REF! | L5: =SUM(H5,I5,J5) -> #REF!
B6: 59751467016 | C6: 3913170610034969 | D6: 경질비닐전선관 | E6: HI 42 mm | F6: M | G6: 83.3 | H6: =ROUNDDOWN(#REF!*#REF!, 0) -> #REF! | L6: =SUM(H6,I6,J6) -> #REF!
B7: 59751467017 | C7: 3913170610034970 | D7: 경질비닐전선관 | E7: HI 54 mm | F7: M | G7: 5.3 | H7: =ROUNDDOWN(#REF!*#REF!, 0) -> #REF! | L7: =SUM(H7,I7,J7) -> #REF!
B8: 59751467018 | C8: 3913170610034971 | D8: 경질비닐전선관 | E8: HI 70 mm | F8: M | G8: 6 | H8: =ROUNDDOWN(#REF!*#REF!, 0) -> #REF! | L8: =SUM(H8,I8,J8) -> #REF!
B9: 59751467022 | C9: 3913170620034965 | D9: 경질비닐전선관(노출) | E9: HI 16 mm | F9: M | G9: 251.1 | H9: =ROUNDDOWN(#REF!*#REF!, 0) -> #REF! | L9: =SUM(H9,I9,J9) -> #REF!
B10: 59751467023 | C10: 3913170620034966 | D10: 경질비닐전선관(노출) | E10: HI 22 mm | F10: M | G10: 5 | H10: =ROUNDDOWN(#REF!*#REF!, 0) -> #REF! | L10: =SUM(H10,I10,J10) -> #REF!
B11: 59753097002 | C11: 3913170610035664 | D11: 합성수지제 가요전선관(노출) | E11: CD-난연성 16㎜ | F11: M | G11: 273 | H11: =ROUNDDOWN(#REF!*#REF!, 0) -> #REF! | L11: =SUM(H11,I11,J11) -> #REF!
B12: 59753017026 | C12: 3913170620174425 | D12: 1종금속제가요전선관 | E12: 36 mm 일반-방수 | F12: M | G12: 1 | H12: =ROUNDDOWN(#REF!*#REF!, 0) -> #REF! | L12: =SUM(H12,I12,J12) -> #REF!
B13: 59753017027 | C13: 3913170620174426 | D13: 1종금속제가요전선관 | E13: 42 mm 일반-방수 | F13: M | G13: 1 | H13: =ROUNDDOWN(#REF!*#REF!, 0) -> #REF! | L13: =SUM(H13,I13,J13) -> #REF!
B14: 59753017043 | C14: 3913170620174434 | D14: 1종금속제가요전선관 | E14: 커넥터, 16 mm 일반-비방수 | F14: 개 | G14: 76 | H14: =ROUNDDOWN(#REF!*#REF!, 0) -> #REF! | L14: =SUM(H14,I14,J14) -> #REF!
B15: 59753017066 | C15: 3913170620174449 | D15: 1종금속제가요전선관 | E15: 커넥터, 36 mm 일반-방수 | F15: 개 | G15: 2 | H15: =ROUNDDOWN(#REF!*#REF!, 0) -> #REF! | L15: =SUM(H15,I15,J15) -> #REF!
... B67: 62100008004 | C67: 391115ZZ901Z1004 | D67: 조명기구 | E67: TYPE C | F67: 개 | G67: 12 | H67: =ROUNDDOWN(#REF!*#REF!, 0) -> #REF! | L67: =SUM(H67,I67,J67) -> #REF!
B68: 56900017016 | C68: L001010101000075 | D68: 노 무 비 | E68: 내선전공 | F68: 인 | G68: 88.132 | I68: =ROUNDDOWN(#REF!, 0) -> #REF! | L68: =SUM(H68,I68,J68) -> #REF!
B69: 56900017076 | C69: L001010101000078 | D69: 노 무 비 | E69: 저압케이블전공 | F69: 인 | G69: 41 | I69: =ROUNDDOWN(#REF!, 0) -> #REF! | L69: =SUM(H69,I69,J69) -> #REF!

Sheet 사용설명
B1: ** 반드시 다음 사항을 숙지하신 다음 수정 작업을 하십시오 **
A2: 1. | B2: 속성이 숫자인 셀을 삭제할 때는 반드시 'Delete' 키를 사용하십시오.
B3: **주의:'Space Bar' 로 지웠을 때는 '#Value' Error가 발생됩니다.
A4: 2. | B4: 일위대가(을지)는 소수점 처리 때문에 셀 속성을 '일반'으로 하였습니다.(소수점 능동 처리)
B5: **참고: (수량*단가)의 결과는 소수 한자리, 금액을 취합한 소계는 1원 이하 절사입니다.
A6: 3. | B6: 내역서에서는 수량에만 셀 속성을 '일반'으로 하였습니다.(소수점 능동 처리)
A7: 4. | B7: 단가수정은 '단가조사서'시트 에서 하십시오.
B8: a)표지와 원가 -> 총괄표 -> 내역서 ->일위대가와 합산자재 ->단가조사서 를 참조하고
B9: 있으므로 단가조사서의 결정단가를 수정하면 전체 금액이 갱신됩니다.
B10: **주의: 금액란은 공식이 걸려있으므로 조심하여 수정하십시오.
B11: b)전체 자재를 일정 요율(%)로 변경할 때는 옵션시트의 자재 적용율을 조정하면 됩니다.
A12: 5. | B12: 노임 단가는 '단가조사서'시트에서 품셈은 '노임근거'시트에서 수정하십시오.
B13: a)전체 노임을 일정 요율(%)로 변경할 때는 '옵션시트'의 전체노임 적용율을 조정하면 됩니다.
B14: b)공종별로 노임을 수정하려면 '옵션시트'의 공종별 노임 적용율을 조정하면 됩니다.
B15: c)케이블 및 전선 자재 단가를 추가로 조정하려면 그룹별 자재 적용율을 조정하면 됩니다.
B16: 그룹은 견적 프로그램에서 엑셀파일이 만들어질때 지정됩니다.
A17: 6. | B17: 겉표지의 모든 정보는 표지를 참조하였습니다.(정보 수정은 표지에서만 하시면 됩니다.)
A18: 7. | B18: 필수 :본 프로그램의 총 금액을 확인한 후 사용하십시오.
A19: 8. | B19: 본 파일의 내용을 인쇄할 경우, 미리보기를 통하여 페이지 절선을 확인 후 인쇄하십시오.
A20: 9. | B20: 관급자재 Sheet가 해당이 없을 경우엔 삭제하십시오.
A21: 10. | B21: 페이지 절선이 맞지 않으면 다음을 참고하십시오.
B33: a. 해당시트의 셀 전체를 선택합니다.
B34: b. 행높이를 적절히 가감하면 페이지 절선을 맞출 수 있습니다.

Sheet 일위노임
B1: 29 | D1: [ KDI대학원기숙사및식당환경개선공사 ] - 일위노임 산출근거(2018년 하반기 노임) | AA1: 내선전공
A2: 번호 | B2: 공종코드 | C2: 코드 | D2: 명 칭 | E2: 규 격 | F2: 단위 | G2: 수량 | K2: 코드 | L2: 공량산출 | P2: 단 위 단 가 산 출 | S2: 품셈근거 | T2: 비고
G3: 결정수량 | H3: 할증 | I3: 산출수량 | J3: 재할% | L3: 명칭 | M3: 품셈 | N3: 할증% | O3: 공량 | P3: 단가 | Q3: 단위단가 | R3: 단위계
B4: 공종줄 | D4: [ EAA110130000 ] 파이프행가 28 C [식]
B5: 800 | C5: 3116210220135769 | D5: 스트롱앵커 | E5: 3/8 | F5: 개 | G5: 1 | H5: =IF(I5<>0, G5-I5, "") -> 0 | I5: 1 | K5: 56900017016 | L5: 내선전공 | M5: 0.036 | N5: 150 | O5: =IF(I5*M5=0, "", I5*M5*(N5/100)) -> 0.054 | Q5: =TRUNC(P5*M5*N5/100) -> 0 | S5: 전기5-29 | AA5: =O5 -> 0.054
B6: 800 | C6: L001010101000075 | D6: 노 무 비 | E6: 내선전공 | F6: 인 | G6: =IF(H6*I6/100 <1, TRUNC(H6*I6/100,#REF!), TRUNC(H6*I6/100,#REF!)) -> #REF! | H6: =#REF! -> #REF! | I6: =SUM(AA5:AA5) -> 0.054 | O6: =IF(I6*M6=0, "", I6*M6*(N6/100)) | Q6: =TRUNC(P6*M6*N6/100) -> 0 | Z6: 노임계 | AA6: =SUM(AA5:AA5) -> 0.054
B7: 공종줄 | D7: [ EAA110140000 ] 파이프행가 36 C [식]
B8: 800 | C8: 3116210220135769 | D8: 스트롱앵커 | E8: 3/8 | F8: 개 | G8: 1 | H8: =IF(I8<>0, G8-I8, "") -> 0 | I8: 1 | K8: 56900017016 | L8: 내선전공 | M8: 0.036 | N8: 150 | O8: =IF(I8*M8=0, "", I8*M8*(N8/100)) -> 0.054 | Q8: =TRUNC(P8*M8*N8/100) -> 0 | S8: 전기5-29 | AA8: =O8 -> 0.054
B9: 800 | C9: L001010101000075 | D9: 노 무 비 | E9: 내선전공 | F9: 인 | G9: =IF(H9*I9/100 <1, TRUNC(H9*I9/100,#REF!), TRUNC(H9*I9/100,#REF!)) -> #REF! | H9: =#REF! -> #REF! | I9: =SUM(AA8:AA8) -> 0.054 | O9: =IF(I9*M9=0, "", I9*M9*(N9/100)) | Q9: =TRUNC(P9*M9*N9/100) -> 0 | Z9: 노임계 | AA9: =SUM(AA8:AA8) -> 0.054
B10: 공종줄 | D10: [ EAA110150000 ] 파이프행가 42 C [식]
B11: 800 | C11: 3116210220135769 | D11: 스트롱앵커 | E11: 3/8 | F11: 개 | G11: 1 | H11: =IF(I11<>0, G11-I11, "") -> 0 | I11: 1 | K11: 56900017016 | L11: 내선전공 | M11: 0.036 | N11: 150 | O11: =IF(I11*M11=0, "", I11*M11*(N11/100)) -> 0.054 | Q11: =TRUNC(P11*M11*N11/100) -> 0 | S11: 전기5-29 | AA11: =O11 -> 0.054
B12: 800 | C12: L001010101000075 | D12: 노 무 비 | E12: 내선전공 | F12: 인 | G12: =IF(H12*I12/100 <1, TRUNC(H12*I12/100,#REF!), TRUNC(H12*I12/100,#REF!)) -> #REF! | H12: =#REF! -> #REF! | I12: =SUM(AA11:AA11) -> 0.054 | O12: =IF(I12*M12=0, "", I12*M12*(N12/100)) | Q12: =TRUNC(P12*M12*N12/100) -> 0 | Z12: 노임계 | AA12: =SUM(AA11:AA11) -> 0.054
B13: 공종줄 | D13: [ EAA110170000 ] 파이프행가 70 C [식]
B14: 800 | C14: 3116210220135769 | D14: 스트롱앵커 | E14: 3/8 | F14: 개 | G14: 1 | H14: =IF(I14<>0, G14-I14, "") -> 0 | I14: 1 | K14: 56900017016 | L14: 내선전공 | M14: 0.036 | N14: 150 | O14: =IF(I14*M14=0, "", I14*M14*(N14/100)) -> 0.054 | Q14: =TRUNC(P14*M14*N14/100) -> 0 | S14: 전기5-29 | AA14: =O14 -> 0.054
B15: 800 | C15: L001010101000075 | D15: 노 무 비 | E15: 내선전공 | F15: 인 | G15: =IF(H15*I15/100 <1, TRUNC(H15*I15/100,#REF!), TRUNC(H15*I15/100,#REF!)) -> #REF! | H15: =#REF! -> #REF! | I15: =SUM(AA14:AA14) -> 0.054 | O15: =IF(I15*M15=0, "", I15*M15*(N15/100)) | Q15: =TRUNC(P15*M15*N15/100) -> 0 | Z15: 노임계 | AA15: =SUM(AA14:AA14) -> 0.054
